BEGIN:VCALENDAR
VERSION:2.0
PRODID:-//ChamberMaster//Event Calendar 2.0//EN
METHOD:PUBLISH
X-PUBLISHED-TTL:P3D
REFRESH-INTERVAL:P3D
CALSCALE:GREGORIAN
BEGIN:VEVENT
DTSTART;VALUE=DATE:20100716
DTEND;VALUE=DATE:20100717
TRANSP:TRANSPARENT
X-MICROSOFT-CDO-ALLDAYEVENT:TRUE
SUMMARY:Collinsville Faith N' Action Awards Night and Dinner
DESCRIPTION:2010 Collinsville Faith N' Action Awards Night and Dinner
X-ALT-DESC;FMTTYPE=text/html:<div>2010 Collinsville Faith N' Action Awards Night and Dinner</div>
LOCATION:
UID:e.504.152
SEQUENCE:3
DTSTAMP:20260423T095916Z
URL:http://business.discovercollinsville.com/events/details/collinsville-faith-n-action-awards-night-and-dinner-07-16-2010-152
END:VEVENT

END:VCALENDAR
