BEGIN:VCALENDAR
VERSION:2.0
PRODID:-//ChamberMaster//Event Calendar 2.0//EN
METHOD:PUBLISH
X-PUBLISHED-TTL:P3D
REFRESH-INTERVAL:P3D
CALSCALE:GREGORIAN
BEGIN:VEVENT
DTSTART;VALUE=DATE:20100625
DTEND;VALUE=DATE:20100626
TRANSP:TRANSPARENT
X-MICROSOFT-CDO-ALLDAYEVENT:TRUE
SUMMARY:Collinsville Building and Loan Association's 125th Anniversary Celebration
DESCRIPTION:Collinsville Building and Loan Association is celebrating 125 years of service to our community.  On June 25th we will have a hot dog cookout from 11 a.m. - 2 p.m. with give-aways (Collinsville Main Office)\n\nOn June 26th we will have coffee and donuts from 8:30 a.m. - 12:00 p.m. (Collinsville and Troy Office)\n\nWe have coolie cup give-aways\, key chain give-aways\, hot dogs\, soda\, chips\, and lots of promotions.  \n\nCome and enjoy a the day with Collinsville Building and Loan Association
X-ALT-DESC;FMTTYPE=text/html:Collinsville Building and Loan Association is celebrating 125 years of service to our community.  On June 25th we will have a hot dog cookout from 11 a.m. - 2 p.m. with give-aways (Collinsville Main Office)\n<br>On June 26th we will have coffee and donuts from 8:30 a.m. - 12:00 p.m. (Collinsville and Troy Office)\n<br>We have coolie cup give-aways\, key chain give-aways\, hot dogs\, soda\, chips\, and lots of promotions.  \n<br>Come and enjoy a the day with Collinsville Building and Loan Association  
LOCATION:701 Belt Line Rd. Collinsville\, IL (Collinsville Main Office) 100 West Market Street Troy\, IL (Troy Branch)
UID:e.504.199
SEQUENCE:3
DTSTAMP:20260425T122952Z
URL:http://business.discovercollinsville.com/events/details/collinsville-building-and-loan-association-s-125th-anniversary-celebration-06-25-2010-199
END:VEVENT

END:VCALENDAR
