BEGIN:VCALENDAR
VERSION:2.0
PRODID:-//ChamberMaster//Event Calendar 2.0//EN
METHOD:PUBLISH
X-PUBLISHED-TTL:P3D
REFRESH-INTERVAL:P3D
CALSCALE:GREGORIAN
BEGIN:VEVENT
DTSTART:20100702T000000Z
DTEND:20100702T013000Z
X-MICROSOFT-CDO-ALLDAYEVENT:FALSE
SUMMARY:Church Walk 2010
DESCRIPTION:Six Week interfaith program that combines a healthy walk\, church history\, and fellowship time.  Meet in the parking lot at 7 p.m. for a mile walk\; return to the host church to hear a history\; go on a tour\; and enjoy refreshments and time meeting new friends.
X-ALT-DESC;FMTTYPE=text/html:Six Week interfaith program that combines a healthy walk\, church history\, and fellowship time.  Meet in the parking lot at 7 p.m. for a mile walk\; return to the host church to hear a history\; go on a tour\; and enjoy refreshments and time meeting new friends.
LOCATION:New Mount Zion Baptist Church 307 Goethe\, Collinsville
UID:e.504.265
SEQUENCE:3
DTSTAMP:20260423T095410Z
URL:http://business.discovercollinsville.com/events/details/church-walk-2010-07-01-2010-265
END:VEVENT

END:VCALENDAR
