BEGIN:VCALENDAR
VERSION:2.0
PRODID:-//ChamberMaster//Event Calendar 2.0//EN
METHOD:PUBLISH
X-PUBLISHED-TTL:P3D
REFRESH-INTERVAL:P3D
CALSCALE:GREGORIAN
BEGIN:VEVENT
DTSTART:20110921T230000Z
DTEND:20110922T030000Z
X-MICROSOFT-CDO-ALLDAYEVENT:FALSE
SUMMARY:Chamber Cook Out 2011
DESCRIPTION:Chamber Cook Out
X-ALT-DESC;FMTTYPE=text/html:Chamber Cook Out
LOCATION:American Legion
UID:e.504.365
SEQUENCE:3
DTSTAMP:20260422T102712Z
URL:http://business.discovercollinsville.com/events/details/chamber-cook-out-2011-09-21-2011-365
END:VEVENT

END:VCALENDAR
