BEGIN:VCALENDAR
VERSION:2.0
PRODID:-//ChamberMaster//Event Calendar 2.0//EN
METHOD:PUBLISH
X-PUBLISHED-TTL:P3D
REFRESH-INTERVAL:P3D
CALSCALE:GREGORIAN
BEGIN:VEVENT
DTSTART:20100922T230000Z
DTEND:20100923T030000Z
X-MICROSOFT-CDO-ALLDAYEVENT:FALSE
SUMMARY:Chamber Cook Out
DESCRIPTION:Come on out and celebrate the last day of Summer with this fun-filled cook out. Enjoy great food\, cold beverages\, and fun times.
X-ALT-DESC;FMTTYPE=text/html:<div>Come on out and celebrate the last day of Summer with this fun-filled cook out. Enjoy great food\, cold beverages\, and fun times.</div>
LOCATION:American Legion Post 3651022 VandaliaCollinsville\, IL 62234
UID:e.504.145
SEQUENCE:3
DTSTAMP:20260423T062222Z
URL:http://business.discovercollinsville.com/events/details/chamber-cook-out-09-22-2010-145
END:VEVENT

END:VCALENDAR
