BEGIN:VCALENDAR
VERSION:2.0
PRODID:-//ChamberMaster//Event Calendar 2.0//EN
METHOD:PUBLISH
X-PUBLISHED-TTL:P3D
REFRESH-INTERVAL:P3D
CALSCALE:GREGORIAN
BEGIN:VEVENT
DTSTART:20091111T140000Z
DTEND:20091111T200000Z
X-MICROSOFT-CDO-ALLDAYEVENT:FALSE
SUMMARY:Celebration Freedom
DESCRIPTION:Hospice of Southern Illinois invites your to join them in honoring our Veteans at Celebration Freedom on Nov. 11\, 2009. The event includes an Honors Ceremony\, Health Fair (Screenings and Health Resources available) from 9 am to 2 pm\, Free breakfast and lunch will be served.
X-ALT-DESC;FMTTYPE=text/html:<div>Hospice of Southern Illinois invites your to join them in honoring our Veteans at Celebration Freedom on Nov. 11\, 2009. The event includes an Honors Ceremony\, Health Fair (Screenings and Health Resources available) from 9 am to 2 pm\, Free breakfast and lunch will be served. &nbsp\;</div>
LOCATION:VFW Hall Post 8677\, 5325 North Illinois\, Route 159\, Fairview Heights\, Illinois
UID:e.504.112
SEQUENCE:3
DTSTAMP:20260426T014502Z
URL:http://business.discovercollinsville.com/events/details/celebration-freedom-11-11-2009-112
END:VEVENT

END:VCALENDAR
