BEGIN:VCALENDAR
VERSION:2.0
PRODID:-//ChamberMaster//Event Calendar 2.0//EN
METHOD:PUBLISH
X-PUBLISHED-TTL:P3D
REFRESH-INTERVAL:P3D
CALSCALE:GREGORIAN
BEGIN:VEVENT
DTSTART:20110611T213000Z
DTEND:20110612T000000Z
X-MICROSOFT-CDO-ALLDAYEVENT:FALSE
SUMMARY:Cedarhurst Assisted Living Anniversary Celebration
DESCRIPTION:Join us as we celebrate our 2nd anniversary!  Memories of Elvis with Steve Davis at 5:30 along with BBQ and root beer floats!
X-ALT-DESC;FMTTYPE=text/html:Join us as we celebrate our 2nd anniversary!&nbsp\; Memories of Elvis with Steve Davis at 5:30 along with BBQ and root beer floats!
LOCATION:1207 Vandalia Ave
UID:e.504.377
SEQUENCE:3
DTSTAMP:20260422T141438Z
URL:http://business.discovercollinsville.com/events/details/cedarhurst-assisted-living-anniversary-celebration-06-11-2011-377
END:VEVENT

END:VCALENDAR
