BEGIN:VCALENDAR
VERSION:2.0
PRODID:-//ChamberMaster//Event Calendar 2.0//EN
METHOD:PUBLISH
X-PUBLISHED-TTL:P3D
REFRESH-INTERVAL:P3D
CALSCALE:GREGORIAN
BEGIN:VEVENT
DTSTART:20110710T150000Z
DTEND:20110710T220000Z
X-MICROSOFT-CDO-ALLDAYEVENT:FALSE
SUMMARY:Catsup Bottle Festival
DESCRIPTION:Please join us at the Collinsville Catsup Bottle Festival on July 10th.  Over 30 Vendors\, Car Show and lots of food and fun.
X-ALT-DESC;FMTTYPE=text/html:Please join us at the Collinsville Catsup Bottle Festival on July 10th.&nbsp\; Over 30 Vendors\, Car Show and lots of food and fun.
LOCATION:American Legion - Post 365 1022 Vandalia Collinsville\, IL 62234
UID:e.504.410
SEQUENCE:3
DTSTAMP:20260422T122619Z
URL:http://business.discovercollinsville.com/events/details/catsup-bottle-festival-07-10-2011-410
END:VEVENT

END:VCALENDAR
