BEGIN:VCALENDAR
VERSION:2.0
PRODID:-//ChamberMaster//Event Calendar 2.0//EN
METHOD:PUBLISH
X-PUBLISHED-TTL:P3D
REFRESH-INTERVAL:P3D
CALSCALE:GREGORIAN
BEGIN:VEVENT
DTSTART:20110901T220000Z
DTEND:20110902T000000Z
X-MICROSOFT-CDO-ALLDAYEVENT:FALSE
SUMMARY:Business After Hours Sept.'11
DESCRIPTION:Business After Hours- Uptown Businesses
X-ALT-DESC;FMTTYPE=text/html:Business After Hours- Uptown Businesses
LOCATION:Uptown Tour
UID:e.504.363
SEQUENCE:3
DTSTAMP:20260422T082641Z
URL:http://business.discovercollinsville.com/events/details/business-after-hours-sept-11-09-01-2011-363
END:VEVENT

END:VCALENDAR
