BEGIN:VCALENDAR
VERSION:2.0
PRODID:-//ChamberMaster//Event Calendar 2.0//EN
METHOD:PUBLISH
X-PUBLISHED-TTL:P3D
REFRESH-INTERVAL:P3D
CALSCALE:GREGORIAN
BEGIN:VEVENT
DTSTART:20100902T220000Z
DTEND:20100903T000000Z
X-MICROSOFT-CDO-ALLDAYEVENT:FALSE
SUMMARY:Business After Hours Sep 2 Biegert's Jewlery & Art Gallery
DESCRIPTION:Come out and mingle with other businesses while enjoying appetizers and beverages.
X-ALT-DESC;FMTTYPE=text/html:<div>Come out and mingle with other businesses while enjoying appetizers and beverages.</div>
LOCATION:Biegert's Jewlery and Art Gallery113 W. MainCollinsville\, IL 62234
UID:e.504.141
SEQUENCE:3
DTSTAMP:20260423T062154Z
URL:http://business.discovercollinsville.com/events/details/business-after-hours-sep-2-biegert-s-jewlery-art-gallery-09-02-2010-141
END:VEVENT

END:VCALENDAR
