BEGIN:VCALENDAR
VERSION:2.0
PRODID:-//ChamberMaster//Event Calendar 2.0//EN
METHOD:PUBLISH
X-PUBLISHED-TTL:P3D
REFRESH-INTERVAL:P3D
CALSCALE:GREGORIAN
BEGIN:VEVENT
DTSTART:20111006T220000Z
DTEND:20111007T000000Z
X-MICROSOFT-CDO-ALLDAYEVENT:FALSE
SUMMARY:Business After Hours Oct.'11
DESCRIPTION:Business After Hours\n\nSponsored By: Biegert's Jewelry & Art Gallery
X-ALT-DESC;FMTTYPE=text/html:Business After Hours<br />\nSponsored By: Biegert&#39\;s Jewelry &amp\; Art Gallery
LOCATION:October 6th 5-7 pm
UID:e.504.366
SEQUENCE:3
DTSTAMP:20260422T082455Z
URL:http://business.discovercollinsville.com/events/details/business-after-hours-oct-11-10-06-2011-366
END:VEVENT

END:VCALENDAR
