BEGIN:VCALENDAR
VERSION:2.0
PRODID:-//ChamberMaster//Event Calendar 2.0//EN
METHOD:PUBLISH
X-PUBLISHED-TTL:P3D
REFRESH-INTERVAL:P3D
CALSCALE:GREGORIAN
BEGIN:VEVENT
DTSTART:20100506T220000Z
DTEND:20100507T000000Z
X-MICROSOFT-CDO-ALLDAYEVENT:FALSE
SUMMARY:Business After Hours May 6 Knights of Columbus
DESCRIPTION:Come join us for a wonerful evening of mingling\, food\, and beverages.
X-ALT-DESC;FMTTYPE=text/html:<div>Come join us for a wonerful evening of mingling\, food\, and beverages.</div>
LOCATION:Knights of Columbus Hall
UID:e.504.129
SEQUENCE:3
DTSTAMP:20260425T141947Z
URL:http://business.discovercollinsville.com/events/details/business-after-hours-may-6-knights-of-columbus-05-06-2010-129
END:VEVENT

END:VCALENDAR
