BEGIN:VCALENDAR
VERSION:2.0
PRODID:-//ChamberMaster//Event Calendar 2.0//EN
METHOD:PUBLISH
X-PUBLISHED-TTL:P3D
REFRESH-INTERVAL:P3D
CALSCALE:GREGORIAN
BEGIN:VEVENT
DTSTART:20110505T220000Z
DTEND:20110506T000000Z
X-MICROSOFT-CDO-ALLDAYEVENT:FALSE
SUMMARY:Business After Hours May 2011
DESCRIPTION:Business After Hours sponsored by Louer  Facility Planning\, 1604 Eastport Plaza\, Suite 100
X-ALT-DESC;FMTTYPE=text/html:Business After Hours sponsored by Louer&nbsp\; Facility Planning\, 1604 Eastport Plaza\, Suite 100
LOCATION:Louer Facility Planning\,
UID:e.504.354
SEQUENCE:3
DTSTAMP:20260422T181927Z
URL:http://business.discovercollinsville.com/events/details/business-after-hours-may-2011-05-05-2011-354
END:VEVENT

END:VCALENDAR
