BEGIN:VCALENDAR
VERSION:2.0
PRODID:-//ChamberMaster//Event Calendar 2.0//EN
METHOD:PUBLISH
X-PUBLISHED-TTL:P3D
REFRESH-INTERVAL:P3D
CALSCALE:GREGORIAN
BEGIN:VEVENT
DTSTART:20100610T220000Z
DTEND:20100611T000000Z
X-MICROSOFT-CDO-ALLDAYEVENT:FALSE
SUMMARY:Business After Hours Jun 10 Kurt's Carstar Collision Center
DESCRIPTION:Come on out and mingle with other businesses while enjoying wonderful appetizers and beverages.
X-ALT-DESC;FMTTYPE=text/html:<div>Come on out and mingle with other businesses while enjoying wonderful appetizers and beverages.</div>
LOCATION:Kurt's Carstar1 Mueller Dr.Maryville\, IL 62062
UID:e.504.135
SEQUENCE:3
DTSTAMP:20260425T122809Z
URL:http://business.discovercollinsville.com/events/details/business-after-hours-jun-10-kurt-s-carstar-collision-center-06-10-2010-135
END:VEVENT

END:VCALENDAR
