BEGIN:VCALENDAR
VERSION:2.0
PRODID:-//ChamberMaster//Event Calendar 2.0//EN
METHOD:PUBLISH
X-PUBLISHED-TTL:P3D
REFRESH-INTERVAL:P3D
CALSCALE:GREGORIAN
BEGIN:VEVENT
DTSTART:20100708T220000Z
DTEND:20100709T000000Z
X-MICROSOFT-CDO-ALLDAYEVENT:FALSE
SUMMARY:Business After Hours Jul 8 C.A.R.D.
DESCRIPTION:Come and enjoy an evening of mingling with others businesses while enjoying appetizers and beverages.
X-ALT-DESC;FMTTYPE=text/html:<div>Come and enjoy an evening of mingling with others businesses while enjoying appetizers and beverages.</div>
LOCATION:10 Gateway Dr.Collinsville\, IL 62234
UID:e.504.136
SEQUENCE:3
DTSTAMP:20260423T095906Z
URL:http://business.discovercollinsville.com/events/details/business-after-hours-jul-8-c-a-r-d-07-08-2010-136
END:VEVENT

END:VCALENDAR
