BEGIN:VCALENDAR
VERSION:2.0
PRODID:-//ChamberMaster//Event Calendar 2.0//EN
METHOD:PUBLISH
X-PUBLISHED-TTL:P3D
REFRESH-INTERVAL:P3D
CALSCALE:GREGORIAN
BEGIN:VEVENT
DTSTART:20100121T230000Z
DTEND:20100122T010000Z
X-MICROSOFT-CDO-ALLDAYEVENT:FALSE
SUMMARY:Business After Hours Jan 21 Cahokia Mounds Museum Society
DESCRIPTION:Start celebrating an early Marti Gras with the Business After Hours at the historic Cahokia Mounds Museum. Enjoy wonderful appetizers and beverages this fun evening.
X-ALT-DESC;FMTTYPE=text/html:<div>Start celebrating an early Marti Gras with the Business After Hours at the historic Cahokia Mounds Museum. Enjoy wonderful appetizers and beverages this fun evening.</div>
LOCATION:30 Ramey St.Collinsville\, IL 62234
UID:e.504.120
SEQUENCE:3
DTSTAMP:20260425T205133Z
URL:http://business.discovercollinsville.com/events/details/business-after-hours-jan-21-cahokia-mounds-museum-society-01-21-2010-120
END:VEVENT

END:VCALENDAR
