BEGIN:VCALENDAR
VERSION:2.0
PRODID:-//ChamberMaster//Event Calendar 2.0//EN
METHOD:PUBLISH
X-PUBLISHED-TTL:P3D
REFRESH-INTERVAL:P3D
CALSCALE:GREGORIAN
BEGIN:VEVENT
DTSTART:20100204T230000Z
DTEND:20100205T010000Z
X-MICROSOFT-CDO-ALLDAYEVENT:FALSE
SUMMARY:Business After Hours Feb 4 L.E. Smith Jewelers
DESCRIPTION:
X-ALT-DESC;FMTTYPE=text/html:
LOCATION:
UID:e.504.121
SEQUENCE:3
DTSTAMP:20260425T191633Z
URL:http://business.discovercollinsville.com/events/details/business-after-hours-feb-4-l-e-smith-jewelers-02-04-2010-121
END:VEVENT

END:VCALENDAR
