BEGIN:VCALENDAR
VERSION:2.0
PRODID:-//ChamberMaster//Event Calendar 2.0//EN
METHOD:PUBLISH
X-PUBLISHED-TTL:P3D
REFRESH-INTERVAL:P3D
CALSCALE:GREGORIAN
BEGIN:VEVENT
DTSTART:20110210T230000Z
DTEND:20110211T010000Z
X-MICROSOFT-CDO-ALLDAYEVENT:FALSE
SUMMARY:Business After Hours Feb '11
DESCRIPTION:Sponsored by L.E.Smith Jewelers\, 9501 St. Louis Road
X-ALT-DESC;FMTTYPE=text/html:Sponsored by L.E.Smith Jewelers\, 9501 St. Louis Road
LOCATION:9501 St. Louis Road \, Collinsville
UID:e.504.330
SEQUENCE:3
DTSTAMP:20260422T215004Z
URL:http://business.discovercollinsville.com/events/details/business-after-hours-feb-11-02-10-2011-330
END:VEVENT

END:VCALENDAR
