BEGIN:VCALENDAR
VERSION:2.0
PRODID:-//ChamberMaster//Event Calendar 2.0//EN
METHOD:PUBLISH
X-PUBLISHED-TTL:P3D
REFRESH-INTERVAL:P3D
CALSCALE:GREGORIAN
BEGIN:VEVENT
DTSTART:20101209T230000Z
DTEND:20101210T010000Z
X-MICROSOFT-CDO-ALLDAYEVENT:FALSE
SUMMARY:Business After Hours Dec 9 Home Federal Savings & Loan
DESCRIPTION:Mingle with other businesses while enjoying appetizers and beverages.
X-ALT-DESC;FMTTYPE=text/html:<div>Mingle with other businesses while enjoying appetizers and beverages.</div>
LOCATION:Home Federal Savings & Loan100 East ClayCollinsville\, IL 62234
UID:e.504.150
SEQUENCE:3
DTSTAMP:20260423T012452Z
URL:http://business.discovercollinsville.com/events/details/business-after-hours-dec-9-home-federal-savings-loan-12-09-2010-150
END:VEVENT

END:VCALENDAR
