BEGIN:VCALENDAR
VERSION:2.0
PRODID:-//ChamberMaster//Event Calendar 2.0//EN
METHOD:PUBLISH
X-PUBLISHED-TTL:P3D
REFRESH-INTERVAL:P3D
CALSCALE:GREGORIAN
BEGIN:VEVENT
DTSTART:20110707T220000Z
DTEND:20110708T000000Z
X-MICROSOFT-CDO-ALLDAYEVENT:FALSE
SUMMARY:Business After Hours- C.A.R.D '11
DESCRIPTION:Business After Hours\n\n	Sponsored by C.A.R.D
X-ALT-DESC;FMTTYPE=text/html:<p>\n	Business After Hours<br />\n	Sponsored by C.A.R.D</p>\n
LOCATION:Splash City
UID:e.504.360
SEQUENCE:3
DTSTAMP:20260422T142505Z
URL:http://business.discovercollinsville.com/events/details/business-after-hours-c-a-r-d-11-07-07-2011-360
END:VEVENT

END:VCALENDAR
