BEGIN:VCALENDAR
VERSION:2.0
PRODID:-//ChamberMaster//Event Calendar 2.0//EN
METHOD:PUBLISH
X-PUBLISHED-TTL:P3D
REFRESH-INTERVAL:P3D
CALSCALE:GREGORIAN
BEGIN:VEVENT
DTSTART:20100805T220000Z
DTEND:20100806T000000Z
X-MICROSOFT-CDO-ALLDAYEVENT:FALSE
SUMMARY:Business After Hours Aug 5 Anderson Hospital
DESCRIPTION:Come and mingle with other businesses while enjoying appetizers and beverages.
X-ALT-DESC;FMTTYPE=text/html:<div>Come and mingle with other businesses while enjoying appetizers and beverages.</div>
LOCATION:Anderson Hospital6800 State Rte.162Maryville\, IL 62062
UID:e.504.139
SEQUENCE:3
DTSTAMP:20260423T081100Z
URL:http://business.discovercollinsville.com/events/details/business-after-hours-aug-5-anderson-hospital-08-05-2010-139
END:VEVENT

END:VCALENDAR
