BEGIN:VCALENDAR
VERSION:2.0
PRODID:-//ChamberMaster//Event Calendar 2.0//EN
METHOD:PUBLISH
X-PUBLISHED-TTL:P3D
REFRESH-INTERVAL:P3D
CALSCALE:GREGORIAN
BEGIN:VEVENT
DTSTART:20091210T230000Z
DTEND:20091211T010000Z
X-MICROSOFT-CDO-ALLDAYEVENT:FALSE
SUMMARY:Business After Hours at Home Federal Savings & Loan
DESCRIPTION:Business After Hours at Home Federal Savings & Loan.  This annual event will be a Holiday Celebration.  The "Light UP' Collinsville Christmas Lights winners will be announced and presented their awards.
X-ALT-DESC;FMTTYPE=text/html:<div>Business After Hours at Home Federal Savings &amp\; Loan.&nbsp\; This annual event will be a Holiday Celebration.&nbsp\; The &quot\;Light UP' Collinsville Christmas Lights winners will be announced and presented their awards.</div>
LOCATION:Home Federal Savings & Loan
UID:e.504.35
SEQUENCE:3
DTSTAMP:20260425T222626Z
URL:http://business.discovercollinsville.com/events/details/business-after-hours-at-home-federal-savings-loan-12-10-2009-35
END:VEVENT

END:VCALENDAR
