BEGIN:VCALENDAR
VERSION:2.0
PRODID:-//ChamberMaster//Event Calendar 2.0//EN
METHOD:PUBLISH
X-PUBLISHED-TTL:P3D
REFRESH-INTERVAL:P3D
CALSCALE:GREGORIAN
BEGIN:VEVENT
DTSTART:20090903T220000Z
DTEND:20090904T000000Z
X-MICROSOFT-CDO-ALLDAYEVENT:FALSE
SUMMARY:Business After Hours at Biegert's Jewelry & Art Gallery
DESCRIPTION:Business After Hours at Biegert's Jewelry & Art Gallery.
X-ALT-DESC;FMTTYPE=text/html:<div>Business After Hours at Biegert's Jewelry &amp\; Art Gallery.</div>
LOCATION:Biegert's Jewelry & Art Gallery on Main Street
UID:e.504.26
SEQUENCE:3
DTSTAMP:20260426T034437Z
URL:http://business.discovercollinsville.com/events/details/business-after-hours-at-biegert-s-jewelry-art-gallery-09-03-2009-26
END:VEVENT

END:VCALENDAR
