BEGIN:VCALENDAR
VERSION:2.0
PRODID:-//ChamberMaster//Event Calendar 2.0//EN
METHOD:PUBLISH
X-PUBLISHED-TTL:P3D
REFRESH-INTERVAL:P3D
CALSCALE:GREGORIAN
BEGIN:VEVENT
DTSTART:20091001T220000Z
DTEND:20091002T000000Z
X-MICROSOFT-CDO-ALLDAYEVENT:FALSE
SUMMARY:Business After Hours and Uptown Tour of Main Street\, Collinsville
DESCRIPTION:Business After Hours - Uptown Tour of Main Street\, Collinsville
X-ALT-DESC;FMTTYPE=text/html:<div>Business After Hours - Uptown Tour of Main Street\, Collinsville</div>
LOCATION:Main Street\, Collinsville
UID:e.504.31
SEQUENCE:3
DTSTAMP:20260426T032458Z
URL:http://business.discovercollinsville.com/events/details/business-after-hours-and-uptown-tour-of-main-street-collinsville-10-01-2009-31
END:VEVENT

END:VCALENDAR
