BEGIN:VCALENDAR
VERSION:2.0
PRODID:-//ChamberMaster//Event Calendar 2.0//EN
METHOD:PUBLISH
X-PUBLISHED-TTL:P3D
REFRESH-INTERVAL:P3D
CALSCALE:GREGORIAN
BEGIN:VEVENT
DTSTART:20101007T220000Z
DTEND:20101008T010000Z
X-MICROSOFT-CDO-ALLDAYEVENT:FALSE
SUMMARY:Business After Hours and Uptown Tour Oct 7
DESCRIPTION:Business after Hours and Uptown Collinsville Tour featuring appetizers and beverages.
X-ALT-DESC;FMTTYPE=text/html:<div>Business after Hours and Uptown Collinsville Tour featuring appetizers and beverages.&nbsp\;</div>
LOCATION:Main St.Collinsville\, IL 62234
UID:e.504.146
SEQUENCE:3
DTSTAMP:20260423T043008Z
URL:http://business.discovercollinsville.com/events/details/business-after-hours-and-uptown-tour-oct-7-10-07-2010-146
END:VEVENT

END:VCALENDAR
