BEGIN:VCALENDAR
VERSION:2.0
PRODID:-//ChamberMaster//Event Calendar 2.0//EN
METHOD:PUBLISH
X-PUBLISHED-TTL:P3D
REFRESH-INTERVAL:P3D
CALSCALE:GREGORIAN
BEGIN:VEVENT
DTSTART:20111201T230000Z
DTEND:20111202T010000Z
X-MICROSOFT-CDO-ALLDAYEVENT:FALSE
SUMMARY:Business After Hours and Holiday Party 2011
DESCRIPTION:Annual Business After Hours and Holiday Party at Home Federal Savings & Loan.  "Light Up" Collinsville Christmas Lights winners will be announced and awards will be presented.
X-ALT-DESC;FMTTYPE=text/html:<div>\n	Annual Business After Hours and Holiday Party at&nbsp\;Home Federal Savings &amp\; Loan.&nbsp\;&nbsp\;&quot\;Light Up&quot\; Collinsville Christmas Lights winners will be announced and awards will be presented.<span _fck_bookmark="1" style="display: none">&nbsp\;</span></div>\n
LOCATION:Home Federal Savings and Loan Collinsville Center\, 100 E. Main St.\, Colllinsville
UID:e.504.344
SEQUENCE:3
DTSTAMP:20260422T044820Z
URL:http://business.discovercollinsville.com/events/details/business-after-hours-and-holiday-party-2011-12-01-2011-344
END:VEVENT

END:VCALENDAR
