BEGIN:VCALENDAR
VERSION:2.0
PRODID:-//ChamberMaster//Event Calendar 2.0//EN
METHOD:PUBLISH
X-PUBLISHED-TTL:P3D
REFRESH-INTERVAL:P3D
CALSCALE:GREGORIAN
BEGIN:VEVENT
DTSTART:20111103T220000Z
DTEND:20111104T000000Z
X-MICROSOFT-CDO-ALLDAYEVENT:FALSE
SUMMARY:BAH Nov.'11
DESCRIPTION:Business After Hours sponsored by ReMax Alliance
X-ALT-DESC;FMTTYPE=text/html:Business After Hours sponsored by ReMax Alliance
LOCATION:531 Belt Line Road
UID:e.504.414
SEQUENCE:3
DTSTAMP:20260422T063138Z
URL:http://business.discovercollinsville.com/events/details/bah-nov-11-11-03-2011-414
END:VEVENT

END:VCALENDAR
