BEGIN:VCALENDAR
VERSION:2.0
PRODID:-//ChamberMaster//Event Calendar 2.0//EN
METHOD:PUBLISH
X-PUBLISHED-TTL:P3D
REFRESH-INTERVAL:P3D
CALSCALE:GREGORIAN
BEGIN:VEVENT
DTSTART:20110113T230000Z
DTEND:20110113T230000Z
X-MICROSOFT-CDO-ALLDAYEVENT:FALSE
SUMMARY:BAH Jan '11
DESCRIPTION:January's Business After Hours is sponsored by Cahokia Mounds. Door prizes include an original pottery serving bowl by Native american Artist Mel Cornshucker. Admission is $5 for Chamber Members and includes soda\, beer\, wine and hor d'oerves.
X-ALT-DESC;FMTTYPE=text/html:January&#39\;s Business After Hours is sponsored by Cahokia Mounds. Door prizes include an original pottery serving bowl by Native american Artist Mel Cornshucker. Admission is $5 for Chamber Members and includes soda\, beer\, wine and hor d&#39\;oerves.
LOCATION:Cahokia Mounds Museum\, 30 Ramey Street.
UID:e.504.318
SEQUENCE:3
DTSTAMP:20260422T233443Z
URL:http://business.discovercollinsville.com/events/details/bah-jan-11-01-13-2011-318
END:VEVENT

END:VCALENDAR
