BEGIN:VCALENDAR
VERSION:2.0
PRODID:-//ChamberMaster//Event Calendar 2.0//EN
METHOD:PUBLISH
X-PUBLISHED-TTL:P3D
REFRESH-INTERVAL:P3D
CALSCALE:GREGORIAN
BEGIN:VEVENT
DTSTART:20100603T220000Z
DTEND:20100604T000000Z
X-MICROSOFT-CDO-ALLDAYEVENT:FALSE
SUMMARY:BAH & Horseradish Festival Preview Party Jun 3 HF Committee
DESCRIPTION:Be the first to experience what this year's festival will consist of while enjoying food and beverages. BAH Preview Party sponsored by the Horseradish Festival Committee.
X-ALT-DESC;FMTTYPE=text/html:<div>Be the first to experience what this year's festival will consist of while enjoying&nbsp\;food and beverages. BAH Preview Party sponsored by the Horseradish Festival Committee.</div>
LOCATION:Woodland Park
UID:e.504.131
SEQUENCE:3
DTSTAMP:20260425T123046Z
URL:http://business.discovercollinsville.com/events/details/bah-horseradish-festival-preview-party-jun-3-hf-committee-06-03-2010-131
END:VEVENT

END:VCALENDAR
