BEGIN:VCALENDAR
VERSION:2.0
PRODID:-//ChamberMaster//Event Calendar 2.0//EN
METHOD:PUBLISH
X-PUBLISHED-TTL:P3D
REFRESH-INTERVAL:P3D
CALSCALE:GREGORIAN
BEGIN:VEVENT
DTSTART:20110602T220000Z
DTEND:20110602T220000Z
X-MICROSOFT-CDO-ALLDAYEVENT:FALSE
SUMMARY:BAH & Horseradish Festival Preview Party '11
DESCRIPTION:Annual Business After Hours and Horseradish Festival Preview Party
X-ALT-DESC;FMTTYPE=text/html:Annual Business After Hours and Horseradish Festival Preview Party
LOCATION:Woodland Park
UID:e.504.355
SEQUENCE:3
DTSTAMP:20260422T142108Z
URL:http://business.discovercollinsville.com/events/details/bah-horseradish-festival-preview-party-11-06-02-2011-355
END:VEVENT

END:VCALENDAR
