BEGIN:VCALENDAR
VERSION:2.0
PRODID:-//ChamberMaster//Event Calendar 2.0//EN
METHOD:PUBLISH
X-PUBLISHED-TTL:P3D
REFRESH-INTERVAL:P3D
CALSCALE:GREGORIAN
BEGIN:VEVENT
DTSTART:20110203T230000Z
DTEND:20110204T010000Z
X-MICROSOFT-CDO-ALLDAYEVENT:FALSE
SUMMARY:BAH Feb.'11
DESCRIPTION:Hosted by L.E.Smith Jewelers
X-ALT-DESC;FMTTYPE=text/html:<p>\n	Hosted by L.E.Smith Jewelers</p>\n
LOCATION:L.E.Smith Jewlelers 9501 St. Louis Road\, Collinsville
UID:e.504.331
SEQUENCE:3
DTSTAMP:20260422T232137Z
URL:http://business.discovercollinsville.com/events/details/bah-feb-11-02-03-2011-331
END:VEVENT

END:VCALENDAR
