BEGIN:VCALENDAR
VERSION:2.0
PRODID:-//ChamberMaster//Event Calendar 2.0//EN
METHOD:PUBLISH
X-PUBLISHED-TTL:P3D
REFRESH-INTERVAL:P3D
CALSCALE:GREGORIAN
BEGIN:VEVENT
DTSTART:20111103T220000Z
DTEND:20111104T000000Z
X-MICROSOFT-CDO-ALLDAYEVENT:FALSE
SUMMARY:BAH at ReMax Alliance
DESCRIPTION:Business After Hours.
X-ALT-DESC;FMTTYPE=text/html:Business After Hours.
LOCATION:531 Beltline Road\, Collinsville
UID:e.504.413
SEQUENCE:3
DTSTAMP:20260422T044328Z
URL:http://business.discovercollinsville.com/events/details/bah-at-remax-alliance-11-03-2011-413
END:VEVENT

END:VCALENDAR
