BEGIN:VCALENDAR
VERSION:2.0
PRODID:-//ChamberMaster//Event Calendar 2.0//EN
METHOD:PUBLISH
X-PUBLISHED-TTL:P3D
REFRESH-INTERVAL:P3D
CALSCALE:GREGORIAN
BEGIN:VEVENT
DTSTART;VALUE=DATE:20100726
DTEND;VALUE=DATE:20100727
TRANSP:TRANSPARENT
X-MICROSOFT-CDO-ALLDAYEVENT:TRUE
SUMMARY:Athletix Factory 2010 Summer Camp Series
DESCRIPTION:All camps cover fundamentals from full-time professional instructors. Training is built around the Athletix Factory KFC curriculum- based on building knowledge\, feeling correct mechanics\, and controlling those body mechanics with muscle memory. Athletes learn by using nationally recognized hitting\, fielding\, and base-running drills. Controlled games\, surprises and contests are included to help campers improve basic skills while having fun. Proper comprehension of material is ensured by a low student-to-instructor ratio. Campers should wear active attire and bring a bat\, glove\, a snack\, and water.\n\n\n\nLil' All-Stars Camp will be held from 9am-1pm\, on Monday only at each camp location.\n\nAthletes should arrive 30 minutes early on first day of camp for check-in
X-ALT-DESC;FMTTYPE=text/html:All camps cover fundamentals from full-time professional instructors. Training is built around the Athletix Factory KFC curriculum- based on building knowledge\, feeling correct mechanics\, and controlling those body mechanics with muscle memory. Athletes learn by using nationally recognized hitting\, fielding\, and base-running drills. Controlled games\, surprises and contests are included to help campers improve basic skills while having fun. Proper comprehension of material is ensured by a low student-to-instructor ratio. Campers should wear active attire and bring a bat\, glove\, a snack\, and water.\n<br>\n<br>Lil' All-Stars Camp will be held from 9am-1pm\, on Monday only at each camp location.\n<br>Athletes should arrive 30 minutes early on first day of camp for check-in
LOCATION:SIU Edwardsville Sports Complex\, Bethalto Sports Complex\, Gordy Mac Fields\, Ray Fosse Park\, Hesse Park\, Belleville West High School.
UID:e.504.274
SEQUENCE:3
DTSTAMP:20260423T112224Z
URL:http://business.discovercollinsville.com/events/details/athletix-factory-2010-summer-camp-series-07-26-2010-274
END:VEVENT

END:VCALENDAR
