BEGIN:VCALENDAR
VERSION:2.0
PRODID:-//ChamberMaster//Event Calendar 2.0//EN
METHOD:PUBLISH
X-PUBLISHED-TTL:P3D
REFRESH-INTERVAL:P3D
CALSCALE:GREGORIAN
BEGIN:VEVENT
DTSTART:20260401T164500Z
DTEND:20260401T180000Z
X-MICROSOFT-CDO-ALLDAYEVENT:FALSE
SUMMARY:April Networking Lunch
DESCRIPTION:Join us for our April Networking Lunch on Wednesday\, April 1\, 2026. from 11:45am - 1:00pm at the Collinsville VFW! \n\nThis month's speaker will be Madison County Employment & Training\, sharing valuable insights and resources available to local businesses and job seekers.\n\nEnjoy a catered lunch for $15 while connecting with fellow professionals and community leaders.\n\nCome network\, learn\, and grow your connections in the Collinsville community! \n\n\n\nPlease RSVP.
X-ALT-DESC;FMTTYPE=text/html:<p class="isSelectedEnd">Join us for our April Networking Lunch&nbsp\;on Wednesday\, April 1\, 2026. from 11:45am - 1:00pm&nbsp\;at the Collinsville VFW!&nbsp\;</p>\n\n<p class="isSelectedEnd">This month&rsquo\;s speaker will be Madison County Employment &amp\; Training\, sharing valuable insights and resources available to local businesses and job seekers.</p>\n\n<p class="isSelectedEnd">Enjoy a catered lunch for $15&nbsp\;while connecting with fellow professionals and community leaders.</p>\n\n<p>Come network\, learn\, and grow your connections in the Collinsville community!&nbsp\;<br />\n<br />\nPlease RSVP.&nbsp\;</p>\n
LOCATION:Collinsville VFW 1234 Vandalia Collinsville IL 62234
UID:e.504.10266
SEQUENCE:3
DTSTAMP:20260421T021203Z
URL:http://business.discovercollinsville.com/events/details/april-networking-lunch-10266
END:VEVENT

END:VCALENDAR
