BEGIN:VCALENDAR
VERSION:2.0
PRODID:-//ChamberMaster//Event Calendar 2.0//EN
METHOD:PUBLISH
X-PUBLISHED-TTL:P3D
REFRESH-INTERVAL:P3D
CALSCALE:GREGORIAN
BEGIN:VEVENT
DTSTART;VALUE=DATE:20100425
DTEND;VALUE=DATE:20100426
TRANSP:TRANSPARENT
X-MICROSOFT-CDO-ALLDAYEVENT:TRUE
SUMMARY:Anime St. Louis 2010 Convention
DESCRIPTION:Anime St. Louis 2010 Convention
X-ALT-DESC;FMTTYPE=text/html:<div>Anime St. Louis 2010 Convention</div>
LOCATION:1 Gateway Dr.Collinsville\, IL 62234
UID:e.504.175
SEQUENCE:3
DTSTAMP:20260425T155256Z
URL:http://business.discovercollinsville.com/events/details/anime-st-louis-2010-convention-04-25-2010-175
END:VEVENT

END:VCALENDAR
