BEGIN:VCALENDAR
VERSION:2.0
PRODID:-//ChamberMaster//Event Calendar 2.0//EN
METHOD:PUBLISH
X-PUBLISHED-TTL:P3D
REFRESH-INTERVAL:P3D
CALSCALE:GREGORIAN
BEGIN:VEVENT
DTSTART;VALUE=DATE:20100424
DTEND;VALUE=DATE:20100425
TRANSP:TRANSPARENT
X-MICROSOFT-CDO-ALLDAYEVENT:TRUE
SUMMARY:Anime St. Louis 2010 Convention
DESCRIPTION:Anime St. Louis 2010 Convention
X-ALT-DESC;FMTTYPE=text/html:<div>Anime St. Louis 2010 Convention</div>
LOCATION:1 Gateway Dr.Collinsville\, IL 62234
UID:e.504.174
SEQUENCE:3
DTSTAMP:20260425T155257Z
URL:http://business.discovercollinsville.com/events/details/anime-st-louis-2010-convention-04-24-2010-174
END:VEVENT

END:VCALENDAR
