BEGIN:VCALENDAR
VERSION:2.0
PRODID:-//ChamberMaster//Event Calendar 2.0//EN
METHOD:PUBLISH
X-PUBLISHED-TTL:P3D
REFRESH-INTERVAL:P3D
CALSCALE:GREGORIAN
BEGIN:VEVENT
DTSTART:20110201T230000Z
DTEND:20110301T040000Z
X-MICROSOFT-CDO-ALLDAYEVENT:FALSE
SUMMARY:Andria's Countryside Restaurant's Pet Therapy Wine Event
DESCRIPTION:Support Hospice of Southern Illinois throughout the month of February!  Andria?s Countryside Restaurant will donate 10% of all wine purchases to help support Magnum\, C.H.A.M.P. Certified Pet Therapy Dog and the Pet Therapy Program at RELAIS BONNE EAU!  \n\n\n\nThank you for helping us fulfill our mission to enhance the quality of life for individuals and their loved ones touched by a terminal illness.  \n\n\n\nFor more information about Magnum or the Pet Therapy Program contact Sue Reilmann at 659-7900 or sreilmann@hospice.org.  www.hospice.org
X-ALT-DESC;FMTTYPE=text/html:Support Hospice of Southern Illinois throughout the month of February!  Andria?s Countryside Restaurant will donate 10% of all wine purchases to help support Magnum\, C.H.A.M.P. Certified Pet Therapy Dog and the Pet Therapy Program at RELAIS BONNE EAU!  \n<br>\n<br>Thank you for helping us fulfill our mission to enhance the quality of life for individuals and their loved ones touched by a terminal illness.  \n<br>\n<br>For more information about Magnum or the Pet Therapy Program contact Sue Reilmann at 659-7900 or sreilmann@hospice.org.  www.hospice.org  \n<br>
LOCATION:Andria?s Countryside Restaurant: 7415 Illinois 143\, Edwardsville\, 656-0281\, www.andriascountryside.com.
UID:e.504.333
SEQUENCE:3
DTSTAMP:20260422T220035Z
URL:http://business.discovercollinsville.com/events/details/andria-s-countryside-restaurant-s-pet-therapy-wine-event-02-01-2011-333
END:VEVENT

END:VCALENDAR
