BEGIN:VCALENDAR
VERSION:2.0
PRODID:-//ChamberMaster//Event Calendar 2.0//EN
METHOD:PUBLISH
X-PUBLISHED-TTL:P3D
REFRESH-INTERVAL:P3D
CALSCALE:GREGORIAN
BEGIN:VEVENT
DTSTART:20101023T130000Z
DTEND:20101023T170000Z
X-MICROSOFT-CDO-ALLDAYEVENT:FALSE
SUMMARY:Anderson Hospital Health Expo
DESCRIPTION:Bone Marrow Registry Drive\n\nBlood Drive\n\nScreenings\n\nPhysician Speakers
X-ALT-DESC;FMTTYPE=text/html:Bone Marrow Registry Drive\n<br>Blood Drive\n<br>Screenings\n<br>Physician Speakers
LOCATION:Anderson Hospital Physician Office Building
UID:e.504.303
SEQUENCE:3
DTSTAMP:20260423T043202Z
URL:http://business.discovercollinsville.com/events/details/anderson-hospital-health-expo-10-23-2010-303
END:VEVENT

END:VCALENDAR
