BEGIN:VCALENDAR
VERSION:2.0
PRODID:-//ChamberMaster//Event Calendar 2.0//EN
METHOD:PUBLISH
X-PUBLISHED-TTL:P3D
REFRESH-INTERVAL:P3D
CALSCALE:GREGORIAN
BEGIN:VEVENT
DTSTART:20100502T180000Z
DTEND:20100502T210000Z
X-MICROSOFT-CDO-ALLDAYEVENT:FALSE
SUMMARY:Anderson Hospital Baby Fair
DESCRIPTION:Anderson Hospital Baby Fair
X-ALT-DESC;FMTTYPE=text/html:<div>Anderson Hospital Baby Fair</div>
LOCATION:1 Gateway Dr.Collinsville\, IL 62234
UID:e.504.176
SEQUENCE:3
DTSTAMP:20260425T141832Z
URL:http://business.discovercollinsville.com/events/details/anderson-hospital-baby-fair-05-02-2010-176
END:VEVENT

END:VCALENDAR
