BEGIN:VCALENDAR
VERSION:2.0
PRODID:-//ChamberMaster//Event Calendar 2.0//EN
METHOD:PUBLISH
X-PUBLISHED-TTL:P3D
REFRESH-INTERVAL:P3D
CALSCALE:GREGORIAN
BEGIN:VEVENT
DTSTART:20101004T230000Z
DTEND:20101005T010000Z
X-MICROSOFT-CDO-ALLDAYEVENT:FALSE
SUMMARY:Anderson Hospital Air Fair
DESCRIPTION:Annual event that helps children and families living with asthma.
X-ALT-DESC;FMTTYPE=text/html:Annual event that helps children and families living with asthma.\n<br>
LOCATION:Anderson Hospital Physician Office Building
UID:e.504.302
SEQUENCE:3
DTSTAMP:20260423T061729Z
URL:http://business.discovercollinsville.com/events/details/anderson-hospital-air-fair-10-04-2010-302
END:VEVENT

END:VCALENDAR
