BEGIN:VCALENDAR
VERSION:2.0
PRODID:-//ChamberMaster//Event Calendar 2.0//EN
METHOD:PUBLISH
X-PUBLISHED-TTL:P3D
REFRESH-INTERVAL:P3D
CALSCALE:GREGORIAN
BEGIN:VEVENT
DTSTART:20110101T033000Z
DTEND:20110101T060000Z
X-MICROSOFT-CDO-ALLDAYEVENT:FALSE
SUMMARY:A New Year's Eve To Remember!
DESCRIPTION:Join us a for a New Year's Eve celebration the whole family can enjoy!  We will sing\, dance\, laugh and praise our way into the new year. You will not want to miss the hilarious\, family friendly comedian and the grand prize winner of the Star Search comedy contest\, Horace Sanders. You'll also be electrified and inspired by the mime presentation of two brothers collectively known as J&J Power. This is an open event and all encouraged to attend.
X-ALT-DESC;FMTTYPE=text/html:Join us a for a New Year's Eve celebration the whole family can enjoy!  We will sing\, dance\, laugh and praise our way into the new year. You will not want to miss the hilarious\, family friendly comedian and the grand prize winner of the Star Search comedy contest\, Horace Sanders. You'll also be electrified and inspired by the mime presentation of two brothers collectively known as J&amp\;J Power. This is an open event and all encouraged to attend. 
LOCATION:Overflow Worship Center 9500 Collinsville Rd Collinsville\, IL 62234
UID:e.504.314
SEQUENCE:3
DTSTAMP:20260422T233529Z
URL:http://business.discovercollinsville.com/events/details/a-new-year-s-eve-to-remember-12-31-2010-314
END:VEVENT

END:VCALENDAR
