BEGIN:VCALENDAR
VERSION:2.0
PRODID:-//ChamberMaster//Event Calendar 2.0//EN
METHOD:PUBLISH
X-PUBLISHED-TTL:P3D
REFRESH-INTERVAL:P3D
CALSCALE:GREGORIAN
BEGIN:VEVENT
DTSTART;VALUE=DATE:20100521
DTEND;VALUE=DATE:20100522
TRANSP:TRANSPARENT
X-MICROSOFT-CDO-ALLDAYEVENT:TRUE
SUMMARY:7th Annual SIPCA Wine Tasting
DESCRIPTION:7th Annual SIPCA Wine Tasting
X-ALT-DESC;FMTTYPE=text/html:<div>7th Annual SIPCA Wine Tasting</div>
LOCATION:1 Gateway Dr.Collinsville\, IL 62234
UID:e.504.179
SEQUENCE:3
DTSTAMP:20260425T141247Z
URL:http://business.discovercollinsville.com/events/details/7th-annual-sipca-wine-tasting-05-21-2010-179
END:VEVENT

END:VCALENDAR
