BEGIN:VCALENDAR
VERSION:2.0
PRODID:-//ChamberMaster//Event Calendar 2.0//EN
METHOD:PUBLISH
X-PUBLISHED-TTL:P3D
REFRESH-INTERVAL:P3D
CALSCALE:GREGORIAN
BEGIN:VEVENT
DTSTART:20100206T010000Z
DTEND:20100206T050000Z
X-MICROSOFT-CDO-ALLDAYEVENT:FALSE
SUMMARY:4th Annual Valentine's Trivia & Cancun Trip Raffle
DESCRIPTION:Contemporary Trivia by Tenacious Trivia\n\n\n\nPROCEEDS TO BENEFIT HOSPICE OF SOUTHERN ILLINOIS\n\nFRIDAY\, FEBRUARY 5\, 2010\n\n\n\nDOORS OPEN AT 6 P.M./GAME BEGINS AT 7P.M.\n\n\n\nReserve your table now! Space is limited!  \n\nBring Your Own Food & Beverage.  Cash Prizes for Top Two Winning Tables!  Special Prize for Best Decorated Table!  50/50 Drawing and Heads/Tails.  \n\n\n\nLIMITED TICKET RAFFLE!  Only 500 sold for the following prizes:\n\nFirst Prize-4 Day/5 Night All inclusive trip to Cancun\, Mexico* or $1000\n\nSecond Prize-Vroom Vroom 150cc Motor Scooter* or $500\n\nThird Prize- Heart Diamond Pendant or $100\n\nDonation $20 per ticket\n\n*Restrictions apply\, see hospice.org for details.  \n\n\n\nFor event or raffle information please contact Kathy 618-235-1703 or kwilson@hospice.org.
X-ALT-DESC;FMTTYPE=text/html:Contemporary Trivia by Tenacious Trivia\n<br>\n<br>PROCEEDS TO BENEFIT HOSPICE OF SOUTHERN ILLINOIS\n<br>FRIDAY\, FEBRUARY 5\, 2010\n<br>\n<br>DOORS OPEN AT 6 P.M./GAME BEGINS AT 7P.M.\n<br>\n<br>Reserve your table now! Space is limited!  \n<br>Bring Your Own Food &amp\; Beverage.  Cash Prizes for Top Two Winning Tables!  Special Prize for Best Decorated Table!  50/50 Drawing and Heads/Tails.  \n<br>\n<br>LIMITED TICKET RAFFLE!  Only 500 sold for the following prizes:\n<br>First Prize-4 Day/5 Night All inclusive trip to Cancun\, Mexico* or $1000\n<br>Second Prize-Vroom Vroom 150cc Motor Scooter* or $500\n<br>Third Prize- Heart Diamond Pendant or $100\n<br>Donation $20 per ticket\n<br>*Restrictions apply\, see hospice.org for details.  \n<br>\n<br>For event or raffle information please contact Kathy 618-235-1703 or kwilson@hospice.org.  \n<br>
LOCATION:Katy Cavins Center -308 E. 5th St.\, O?Fallon\, IL 62269
UID:e.504.151
SEQUENCE:3
DTSTAMP:20260425T190853Z
URL:http://business.discovercollinsville.com/events/details/4th-annual-valentine-s-trivia-cancun-trip-raffle-02-05-2010-151
END:VEVENT

END:VCALENDAR
