BEGIN:VCALENDAR
VERSION:2.0
PRODID:-//ChamberMaster//Event Calendar 2.0//EN
METHOD:PUBLISH
X-PUBLISHED-TTL:P3D
REFRESH-INTERVAL:P3D
CALSCALE:GREGORIAN
BEGIN:VEVENT
DTSTART:20111108T140000Z
DTEND:20111108T210000Z
X-MICROSOFT-CDO-ALLDAYEVENT:FALSE
SUMMARY:29th Annual Hospice Conference
DESCRIPTION:"Communication with Compassion"\n\n\n\nKeynote Speaker: Regina Carpenter - "I've got a Million Nightingales on the Branches of My Heart"\n\n\n\nWorkshops:\n\n(1) A Pocketful of Stories\n\n(2) Body Language\n\n(3) Video "Compassion in Action"\n\n(4) Post Traumatic Stress Disorder\n\n\n\nCEU's avialble - SW\, LSW\, LCPC\, LNHA\n\n\n\nFor more information conatct Cindy Cobetto @ 650-2164
X-ALT-DESC;FMTTYPE=text/html:&quot\;Communication with Compassion&quot\;<br />\n<br />\nKeynote Speaker: Regina Carpenter - &quot\;I&#39\;ve got a Million Nightingales on the Branches of My Heart&quot\;<br />\n<br />\nWorkshops:<br />\n(1) A Pocketful of Stories<br />\n(2) Body Language<br />\n(3) Video &quot\;Compassion in Action&quot\;<br />\n(4) Post Traumatic Stress Disorder<br />\n<br />\nCEU&#39\;s avialble - SW\, LSW\, LCPC\, LNHA<br />\n<br />\nFor more information conatct Cindy Cobetto @ 650-2164<br />\n<br />\n
LOCATION:SIUE Morris University Center
UID:e.504.411
SEQUENCE:3
DTSTAMP:20260422T063529Z
URL:http://business.discovercollinsville.com/events/details/29th-annual-hospice-conference-11-08-2011-411
END:VEVENT

END:VCALENDAR
