BEGIN:VCALENDAR
VERSION:2.0
PRODID:-//ChamberMaster//Event Calendar 2.0//EN
METHOD:PUBLISH
X-PUBLISHED-TTL:P3D
REFRESH-INTERVAL:P3D
CALSCALE:GREGORIAN
BEGIN:VEVENT
DTSTART;VALUE=DATE:20100514
DTEND;VALUE=DATE:20100516
TRANSP:TRANSPARENT
X-MICROSOFT-CDO-ALLDAYEVENT:TRUE
SUMMARY:2010 Relay For Life of Collinsville\, IL
DESCRIPTION:2010 Relay For Life of Collinsville\, IL\nMay 14-15\, 2010 at Son Life Church\n \n= progress_ids.length) {\nprogressIndex22128 = 0\;\n}\nnewProgress22128 = document.getElementById('rotating_progress22128' + progress_ids[progressIndex22128])\;\nEffect.Fade('rotating_progress_container22128')\;\nsetTimeout('progessSwapElems22128()\;'\,1000)\;\nprogressIndex22128++\;\n}\nfunction progessSwapElems22128() {\nmyProgress22128.innerHTML = newProgress22128.innerHTML\;\nEffect.Appear('rotating_progress_container22128')\;\n}\nsetInterval('progressReplaceContent22128()'\,4000)\;\n// -->
X-ALT-DESC;FMTTYPE=text/html:<div><p><font size="6"><strong><span class="eventHeader">2010 Relay For Life of Collinsville\, IL</span><br /></strong></font><span class="eventSubHead"><strong><font size="5">May 14-15\, 2010 at Son Life Church<br /></font></strong></span><span class="eventSubHead"><strong><font size="5"><span id="rotating_img_hidden" style="display: none"><span id="rotating_progress221282">&nbsp\;</span></span></font></strong><script type="text/javascript">\n<!-- //\nvar myProgress22128 = document.getElementById('rotating_progress_container22128')\;\nvar newProgress22128\;\nvar progress_ids = '1 2 3'.split(' ')\;\nvar progressIndex22128 = 1\;\nfunction progressReplaceContent22128() {\nif(progressIndex22128 >= progress_ids.length) {\nprogressIndex22128 = 0\;\n}\nnewProgress22128 = document.getElementById('rotating_progress22128' + progress_ids[progressIndex22128])\;\nEffect.Fade('rotating_progress_container22128')\;\nsetTimeout('progessSwapElems22128()\;'\,1000)\;\nprogressIndex22128++\;\n}\nfunction progessSwapElems22128() {\nmyProgress22128.innerHTML = newProgress22128.innerHTML\;\nEffect.Appear('rotating_progress_container22128')\;\n}\nsetInterval('progressReplaceContent22128()'\,4000)\;\n// -->\n</script></span></p></div>
LOCATION:
UID:e.504.186
SEQUENCE:3
DTSTAMP:20260425T141959Z
URL:http://business.discovercollinsville.com/events/details/2010-relay-for-life-of-collinsville-il-05-14-2010-186
END:VEVENT

END:VCALENDAR
