BEGIN:VCALENDAR
VERSION:2.0
PRODID:-//ChamberMaster//Event Calendar 2.0//EN
METHOD:PUBLISH
X-PUBLISHED-TTL:P3D
REFRESH-INTERVAL:P3D
CALSCALE:GREGORIAN
BEGIN:VEVENT
DTSTART:20110729T123000Z
DTEND:20110730T000000Z
X-MICROSOFT-CDO-ALLDAYEVENT:FALSE
SUMMARY:12th Annual HOSPICE OF SOUTHERN ILLINOIS Benefit Golf Tournament
DESCRIPTION:12th Annual HOSPICE OF SOUTHERN ILLINOIS Benefit Golf Tournament on Friday\, July 29\, 2011.  7:30 am and 1:30 pm Shotgun Starts at Cardinal Creek Golf Course\,  Scott AFB.  $100 per person/$400 per team.  Contact Gordon Cachola at 618-588-4837 or Kathy Wilson at 235-1703\, kwilson@hospice.org for more information.
X-ALT-DESC;FMTTYPE=text/html:12th Annual HOSPICE OF SOUTHERN ILLINOIS Benefit Golf Tournament on Friday\, July 29\, 2011.  7:30 am and 1:30 pm Shotgun Starts at Cardinal Creek Golf Course\,  Scott AFB.  $100 per person/$400 per team.  Contact Gordon Cachola at 618-588-4837 or Kathy Wilson at 235-1703\, kwilson@hospice.org for more information.  \n<br>
LOCATION:Cardinal Creek Golf Course\, Scott AFB
UID:e.504.341
SEQUENCE:3
DTSTAMP:20260422T122908Z
URL:http://business.discovercollinsville.com/events/details/12th-annual-hospice-of-southern-illinois-benefit-golf-tournament-07-29-2011-341
END:VEVENT

END:VCALENDAR
